BEGIN:VCALENDAR
VERSION:2.0
PRODID:-//Armats de Mataró - ECPv5.16.4//NONSGML v1.0//EN
CALSCALE:GREGORIAN
METHOD:PUBLISH
X-WR-CALNAME:Armats de Mataró
X-ORIGINAL-URL:https://armatsdemataro.cat
X-WR-CALDESC:Events for Armats de Mataró
REFRESH-INTERVAL;VALUE=DURATION:PT1H
X-Robots-Tag:noindex
X-PUBLISHED-TTL:PT1H
BEGIN:VTIMEZONE
TZID:Europe/Helsinki
BEGIN:DAYLIGHT
TZOFFSETFROM:+0200
TZOFFSETTO:+0300
TZNAME:EEST
DTSTART:20230326T010000
END:DAYLIGHT
BEGIN:STANDARD
TZOFFSETFROM:+0300
TZOFFSETTO:+0200
TZNAME:EET
DTSTART:20231029T010000
END:STANDARD
BEGIN:DAYLIGHT
TZOFFSETFROM:+0200
TZOFFSETTO:+0300
TZNAME:EEST
DTSTART:20240331T010000
END:DAYLIGHT
BEGIN:STANDARD
TZOFFSETFROM:+0300
TZOFFSETTO:+0200
TZNAME:EET
DTSTART:20241027T010000
END:STANDARD
END:VTIMEZONE
BEGIN:VEVENT
DTSTART;TZID=Europe/Helsinki:20231217T160000
DTEND;TZID=Europe/Helsinki:20231217T200000
DTSTAMP:20260421T044629
CREATED:20231112T104600Z
LAST-MODIFIED:20231112T104601Z
UID:6975-1702828800-1702843200@armatsdemataro.cat
SUMMARY:Col·laboració Pessebre Vivent Santa Maria de Palautordera
DESCRIPTION:Col·laboració Pessebre Vivent Santa Maria de Palautordera – Armats de Mataró.
URL:https://armatsdemataro.cat/event/col%c2%b7laboracio-pessebre-vivent-santa-maria-de-palautordera-2/
LOCATION:Pessebre Palautordera\, Parc Reguissol\, Santa Maria Palautordera\, Barcelona\, 08460\, Espanya
CATEGORIES:ASSOCIACIÓ,MANIPLE
END:VEVENT
BEGIN:VEVENT
DTSTART;TZID=Europe/Helsinki:20231217T170000
DTEND;TZID=Europe/Helsinki:20231217T210000
DTSTAMP:20260421T044629
CREATED:20231112T105520Z
LAST-MODIFIED:20231112T105521Z
UID:6981-1702832400-1702846800@armatsdemataro.cat
SUMMARY:Col·laboració Pessebre Vivent Corró d'Avall
DESCRIPTION:Col·laboració Pessebre Vivent Corró d’Avall – Armats de Mataró.
URL:https://armatsdemataro.cat/event/col%c2%b7laboracio-pessebre-vivent-corro-davall-2/
LOCATION:Pessebre Cor\, Av. Santa Eulàlia\, 16\, Corró d'Avall\, Barcelona\, 08520\, Espanya
CATEGORIES:ASSOCIACIÓ,MANIPLE
END:VEVENT
BEGIN:VEVENT
DTSTART;TZID=Europe/Helsinki:20240201T213000
DTEND;TZID=Europe/Helsinki:20240201T220000
DTSTAMP:20260421T044629
CREATED:20240202T182349Z
LAST-MODIFIED:20240202T182622Z
UID:7047-1706823000-1706824800@armatsdemataro.cat
SUMMARY:Assaig MANIPLE 2024
DESCRIPTION:
URL:https://armatsdemataro.cat/event/assaig-maniple-2024-6/
LOCATION:PORT Mataró\, Carrer Port de Mataró\, Mataró\, Barcelona\, 08301\, Espanya
CATEGORIES:MANIPLE
END:VEVENT
BEGIN:VEVENT
DTSTART;TZID=Europe/Helsinki:20240202T213000
DTEND;TZID=Europe/Helsinki:20240202T220000
DTSTAMP:20260421T044629
CREATED:20240202T180810Z
LAST-MODIFIED:20240202T182522Z
UID:7041-1706909400-1706911200@armatsdemataro.cat
SUMMARY:Assaig MANIPLE 2024
DESCRIPTION:
URL:https://armatsdemataro.cat/event/assaig-maniple-2024-3/
LOCATION:PORT Mataró\, Carrer Port de Mataró\, Mataró\, Barcelona\, 08301\, Espanya
CATEGORIES:MANIPLE
END:VEVENT
BEGIN:VEVENT
DTSTART;TZID=Europe/Helsinki:20240213T213000
DTEND;TZID=Europe/Helsinki:20240213T220000
DTSTAMP:20260421T044629
CREATED:20240202T180055Z
LAST-MODIFIED:20240202T182653Z
UID:7037-1707859800-1707861600@armatsdemataro.cat
SUMMARY:Assaig MANIPLE 2024
DESCRIPTION:
URL:https://armatsdemataro.cat/event/assaig-maniple-2024/
LOCATION:PORT Mataró\, Carrer Port de Mataró\, Mataró\, Barcelona\, 08301\, Espanya
CATEGORIES:MANIPLE
END:VEVENT
BEGIN:VEVENT
DTSTART;TZID=Europe/Helsinki:20240215T213000
DTEND;TZID=Europe/Helsinki:20240215T220000
DTSTAMP:20260421T044629
CREATED:20240202T180646Z
LAST-MODIFIED:20240202T182806Z
UID:7039-1708032600-1708034400@armatsdemataro.cat
SUMMARY:Assaig MANIPLE 2024
DESCRIPTION:
URL:https://armatsdemataro.cat/event/assaig-maniple-2024-2/
LOCATION:PORT Mataró\, Carrer Port de Mataró\, Mataró\, Barcelona\, 08301\, Espanya
CATEGORIES:MANIPLE
END:VEVENT
BEGIN:VEVENT
DTSTART;TZID=Europe/Helsinki:20240220T213000
DTEND;TZID=Europe/Helsinki:20240220T220000
DTSTAMP:20260421T044629
CREATED:20240202T181840Z
LAST-MODIFIED:20240202T182852Z
UID:7043-1708464600-1708466400@armatsdemataro.cat
SUMMARY:Assaig MANIPLE 2024
DESCRIPTION:
URL:https://armatsdemataro.cat/event/assaig-maniple-2024-4/
LOCATION:PORT Mataró\, Carrer Port de Mataró\, Mataró\, Barcelona\, 08301\, Espanya
CATEGORIES:MANIPLE
END:VEVENT
BEGIN:VEVENT
DTSTART;TZID=Europe/Helsinki:20240222T210000
DTEND;TZID=Europe/Helsinki:20240222T220000
DTSTAMP:20260421T044629
CREATED:20240202T182015Z
LAST-MODIFIED:20240221T062038Z
UID:7045-1708635600-1708639200@armatsdemataro.cat
SUMMARY:Assaig MANIPLE 2024
DESCRIPTION:
URL:https://armatsdemataro.cat/event/assaig-maniple-2024-5/
LOCATION:PORT Mataró\, Carrer Port de Mataró\, Mataró\, Barcelona\, 08301\, Espanya
CATEGORIES:MANIPLE
END:VEVENT
BEGIN:VEVENT
DTSTART;TZID=Europe/Helsinki:20240227T220000
DTEND;TZID=Europe/Helsinki:20240227T230000
DTSTAMP:20260421T044629
CREATED:20240221T062300Z
LAST-MODIFIED:20240221T062300Z
UID:7051-1709071200-1709074800@armatsdemataro.cat
SUMMARY:Assaig MANIPLE 2024
DESCRIPTION:
URL:https://armatsdemataro.cat/event/assaig-maniple-2024-7/
LOCATION:PORT Mataró\, Carrer Port de Mataró\, Mataró\, Barcelona\, 08301\, Espanya
CATEGORIES:MANIPLE
END:VEVENT
BEGIN:VEVENT
DTSTART;TZID=Europe/Helsinki:20240229T210000
DTEND;TZID=Europe/Helsinki:20240229T220000
DTSTAMP:20260421T044629
CREATED:20240221T062416Z
LAST-MODIFIED:20240221T062417Z
UID:7053-1709240400-1709244000@armatsdemataro.cat
SUMMARY:Assaig MANIPLE 2024
DESCRIPTION:
URL:https://armatsdemataro.cat/event/assaig-maniple-2024-8/
LOCATION:PORT Mataró\, Carrer Port de Mataró\, Mataró\, Barcelona\, 08301\, Espanya
CATEGORIES:MANIPLE
END:VEVENT
BEGIN:VEVENT
DTSTART;VALUE=DATE:20240303
DTEND;VALUE=DATE:20240304
DTSTAMP:20260421T044629
CREATED:20230925T184046Z
LAST-MODIFIED:20231023T131749Z
UID:6935-1709424000-1709510399@armatsdemataro.cat
SUMMARY:Trobada 75 anys Manípul de Manaies de Banyoles
DESCRIPTION:Grups Assistents: \nEstaferms de Badalona\nAssociació Confraria de Setmana Santa Calella (Armats)\nA.C.R. Manresa\nArmats de Martorelles\nArmats de Mataró\nArmats de Moià\nRomans SVC de Sant Vicenç de Castellet\nArmats de Sant Vicenç dels Horts\nMuy Ilustre Cofraria de la Purísima Sangre y Virgen de la Soledad de Vila-real (Sección Guardia Romana)\nManaies d’Amer\nManípul de Manaies de Banyoles\nCongregació Mare de Déu dels Dolors de Besalú\nAssociació de Manaies de Blanes\nManípul de Manaies i Botxins de Mieres\nArmats de Campdevànol\nManaies de Sant Daniel\nManaies de Girona\nManaies de Maçanet de la Selva\nManaies de les Planes d’Hostoles\nManaies de Llagostera\nAssociació Via Crucis Vivent\nLa Processó de Verges (Les Manages de Verges)\nVila-Sacra Activa’t\nArmats de Balaguer\nCongregació dels Dolors de Bellpuig\nLos Armats dels Set Dolors de Juneda\nArmats de la Seu d’Urgell\nGrup Armats de les Borges\nAgrupació Armats Dolors\nArmats de la Sang\nArmats d’Oliana\nArmats de Talarn\nArmats de Tírvia\nConfraria Alcover\nConfraria del Sant Crist de la Puríssima Sang de Constantí\nArmats del Vendrell\nConfraria d’Armats de Flix\n“Pretorians” Armats de l’Arboç\nArmats de l’Espluga de Francolí\nArmats de la Congregació de la Puríssima Sang de N.S.J. de Montblanc\nArmats de la Palma d’Ebre\nArmats del Pla de Santa Maria\nArmats de la Reial Congregació de la Puríssima Sang de Reus\nArmats Blancs de la Confraria dels Sants Just i Pastor de Reus\nConfraria Puríssima Sang de Ntre. Sr. Jesucrist de Riudecols\nArmats de Torredembarra\nArmats de Vilallonga del Camp
URL:https://armatsdemataro.cat/event/trobada-75-anys-manipul-de-manaies-de-banyoles/
LOCATION:Banyoles\, Banyoles\, Girona\, 17820\, Espanya
CATEGORIES:MANIPLE
END:VEVENT
BEGIN:VEVENT
DTSTART;TZID=Europe/Helsinki:20240305T213000
DTEND;TZID=Europe/Helsinki:20240305T223000
DTSTAMP:20260421T044629
CREATED:20240221T062524Z
LAST-MODIFIED:20240221T062524Z
UID:7055-1709674200-1709677800@armatsdemataro.cat
SUMMARY:Assaig MANIPLE 2024
DESCRIPTION:
URL:https://armatsdemataro.cat/event/assaig-maniple-2024-9/
LOCATION:PORT Mataró\, Carrer Port de Mataró\, Mataró\, Barcelona\, 08301\, Espanya
CATEGORIES:MANIPLE
END:VEVENT
BEGIN:VEVENT
DTSTART;TZID=Europe/Helsinki:20240307T210000
DTEND;TZID=Europe/Helsinki:20240307T220000
DTSTAMP:20260421T044629
CREATED:20240221T062656Z
LAST-MODIFIED:20240221T062656Z
UID:7057-1709845200-1709848800@armatsdemataro.cat
SUMMARY:Assaig MANIPLE 2024
DESCRIPTION:
URL:https://armatsdemataro.cat/event/assaig-maniple-2024-10/
LOCATION:PORT Mataró\, Carrer Port de Mataró\, Mataró\, Barcelona\, 08301\, Espanya
CATEGORIES:MANIPLE
END:VEVENT
BEGIN:VEVENT
DTSTART;TZID=Europe/Helsinki:20240322T200000
DTEND;TZID=Europe/Helsinki:20240322T210000
DTSTAMP:20260421T044629
CREATED:20231023T124841Z
LAST-MODIFIED:20231023T125042Z
UID:6949-1711137600-1711141200@armatsdemataro.cat
SUMMARY:Missa en Honor a la Mare de Déu dels Dolors i en sufragi nostres difunts.
DESCRIPTION:S’inicia la Missa amb l’entrada del Banderer d’Honor portant la Bandera d’Armats de Mataró \, acompanyat per el President d’Armats de Mataró . La Bandera queda en dipòsit en espera del Dijous Sant en la Recollida de la Bandera. \nEl Mossèn inicia la Missa on es recordarà a tots els difunts i en detall dels nostres socis i sòcies que han estat cridats a la Casa del Pare en aquest últim any.
URL:https://armatsdemataro.cat/event/missa-en-honor-a-la-mare-de-deu-dels-dolors-i-en-sufragi-nostres-difunts-2/
LOCATION:Capella Mare de Deu dels Dolors\, Plaça Santa Maria\, Mataró\, Barcelona\, 08301\, Espanya
CATEGORIES:ASSOCIACIÓ
END:VEVENT
BEGIN:VEVENT
DTSTART;TZID=Europe/Helsinki:20240322T220000
DTEND;TZID=Europe/Helsinki:20240322T233000
DTSTAMP:20260421T044629
CREATED:20231023T125803Z
LAST-MODIFIED:20231023T125803Z
UID:6952-1711144800-1711150200@armatsdemataro.cat
SUMMARY:La Passió \, Últims dies de Jesús
DESCRIPTION:Des de 1983 a Mataró\, Armats de Mataró porten a terme la representació teatral de La Passió. \nMés de 60 participants.
URL:https://armatsdemataro.cat/event/la-passio-ultims-dies-de-jesus-3/
LOCATION:Hort del Rector de Santa Maria\, Plaça Santa Maria\, Mataró\, Barcelona\, 08301\, Espanya
CATEGORIES:PASSIÓ
END:VEVENT
BEGIN:VEVENT
DTSTART;TZID=Europe/Helsinki:20240323T213000
DTEND;TZID=Europe/Helsinki:20240323T230000
DTSTAMP:20260421T044629
CREATED:20231023T130143Z
LAST-MODIFIED:20231023T130144Z
UID:6954-1711229400-1711234800@armatsdemataro.cat
SUMMARY:La Passió \, Últims dies de Jesús
DESCRIPTION:Des de 1983 a Mataró\, Armats de Mataró porten a terme la representació teatral de La Passió. \nMés de 60 participants.
URL:https://armatsdemataro.cat/event/la-passio-ultims-dies-de-jesus-4/
LOCATION:Hort del Rector de Santa Maria\, Plaça Santa Maria\, Mataró\, Barcelona\, 08301\, Espanya
CATEGORIES:PASSIÓ
END:VEVENT
BEGIN:VEVENT
DTSTART;TZID=Europe/Helsinki:20240325T210000
DTEND;TZID=Europe/Helsinki:20240325T220000
DTSTAMP:20260421T044629
CREATED:20240221T062939Z
LAST-MODIFIED:20240221T062939Z
UID:7059-1711400400-1711404000@armatsdemataro.cat
SUMMARY:Assaig MANIPLE 2024 Santa Maria
DESCRIPTION:
URL:https://armatsdemataro.cat/event/assaig-maniple-2024-santa-maria/
LOCATION:Basílica de Santa Maria\, Plaça Santa Maria\, Mataró\, Barcelona\, 08301\, Espanya
CATEGORIES:MANIPLE
END:VEVENT
BEGIN:VEVENT
DTSTART;TZID=Europe/Helsinki:20240326T210000
DTEND;TZID=Europe/Helsinki:20240326T223000
DTSTAMP:20260421T044629
CREATED:20240221T063101Z
LAST-MODIFIED:20240221T063102Z
UID:7061-1711486800-1711492200@armatsdemataro.cat
SUMMARY:Assaig MANIPLE 2024 Plaça Ajuntament
DESCRIPTION:
URL:https://armatsdemataro.cat/event/assaig-maniple-2024-placa-ajuntament/
LOCATION:Plaça Ajuntament\, Plaça Ajuntament\, Mataró\, Barcelona\, 08301\, Espanya
CATEGORIES:MANIPLE
END:VEVENT
BEGIN:VEVENT
DTSTART;TZID=Europe/Helsinki:20240328T191500
DTEND;TZID=Europe/Helsinki:20240328T191500
DTSTAMP:20260421T044629
CREATED:20231023T130644Z
LAST-MODIFIED:20231023T134906Z
UID:6956-1711653300-1711653300@armatsdemataro.cat
SUMMARY:Recollida de la Bandera. 35e Aniversari.
DESCRIPTION:Sortida del local d’Armats de Mataró Carrer Sant Simo 13 \, reunió del Maniple al Fossar Xic\, sortida en desfilada carrer Beata Maria fins l’entrada de la Plaça Santa Maria es cercla la plaça fins quedar davant de la Basílica de Santa Maria \, on Capità Manaia\, President i Banderer de Maniple\, sortiran de formació per anar a la Capella de la Mare de Deu del Dolors per iniciar el protocol del Banderer d’Honor . Posteriorment acabat el protocol intern\, inicia l’acte sortint el Banderer d’Honor escoltat per la guàrdia d’Armat Antic i els músic al so de “ la Marxa del Armat” fins fer el canvi de Bandera \, s’inicien les evolucions i es marxa cap el següent acte.
URL:https://armatsdemataro.cat/event/recollida-de-la-bandera/
LOCATION:Capella Mare de Deu dels Dolors\, Plaça Santa Maria\, Mataró\, Barcelona\, 08301\, Espanya
CATEGORIES:MANIPLE
END:VEVENT
BEGIN:VEVENT
DTSTART;TZID=Europe/Helsinki:20240328T200000
DTEND;TZID=Europe/Helsinki:20240328T210000
DTSTAMP:20260421T044629
CREATED:20231023T130926Z
LAST-MODIFIED:20231023T131005Z
UID:6958-1711656000-1711659600@armatsdemataro.cat
SUMMARY:Homenatge a la Ciutat
DESCRIPTION:Provenint de la Recollida Bandera \, per Plaça Gran\, Plaça Xica\, Plaça del Peix\, Carrer Barcelona\, La Riera s’arriba a la Plaça Ajuntament on s’inicia l’acte amb lectura Capità Manaia\, Imposició Insígnia\, i les evolucions de l’acte en si. Acabat a pas lleuger el Maniple es dirigeix a Santa Maria per prosseguir en la Processó Nit de Silenci.
URL:https://armatsdemataro.cat/event/homenatge-a-la-ciutat/
LOCATION:Plaça Ajuntament\, Plaça Ajuntament\, Mataró\, Barcelona\, 08301\, Espanya
CATEGORIES:MANIPLE
END:VEVENT
BEGIN:VEVENT
DTSTART;TZID=Europe/Helsinki:20240328T213000
DTEND;TZID=Europe/Helsinki:20240328T233000
DTSTAMP:20260421T044629
CREATED:20231023T131339Z
LAST-MODIFIED:20231023T134957Z
UID:6960-1711661400-1711668600@armatsdemataro.cat
SUMMARY:Processó Nit de Silenci. 30e Aniversari
DESCRIPTION:Celebrem que fa 210 anys la processó de Dijous Sant tornava als carres de Mataró. Posteriorment al 1994 va tornar la processó el Dijous Sant\, llavors dita la “Processó dels Armats” . \nDins de Santa Maria on espera la Confraria de l’Oració del Senyor a l’Hort de Mataró\, la Cofradia Jesús Coronado de Espinas i la Venerable Congregació de la Mae de Deu dels Dolors\, conjuntament s’inicia la Processó Nit de Silenci per el carrer Sant Francesc d’Assís \, Carrer Bonaire\, La Riera\, Carrer Nou i al tornar a la plaça Santa Maria es fa una entrada a la Basílica sense llums i amb torxes on acaba la Processó.
URL:https://armatsdemataro.cat/event/processo-nit-de-silenci-2/
LOCATION:Basílica de Santa Maria\, Plaça Santa Maria\, Mataró\, Barcelona\, 08301\, Espanya
CATEGORIES:MANIPLE
END:VEVENT
BEGIN:VEVENT
DTSTART;TZID=Europe/Helsinki:20240329T180000
DTEND;TZID=Europe/Helsinki:20240329T183000
DTSTAMP:20260421T044629
CREATED:20231023T132338Z
LAST-MODIFIED:20231023T135826Z
UID:6962-1711735200-1711737000@armatsdemataro.cat
SUMMARY:Recollida del Sant Crist de la Bona Mort
DESCRIPTION:Sortida des de Local d’Armats de Mataró al Carrer Sant Simó 13\, en desfilada pas lleuger Carrer Sant Ramon\, Pascual Madoz\, Antoni Puigblanch\, Arquebisbe Creus i Moreto fins el carrer Prat de Riba on es fa l’acte i s’acompanya en Processó al Sant Crist fins Basílica de Santa Maria per Carrer Cristina\, Sant Bru\, Sant Francesc d’Assís
URL:https://armatsdemataro.cat/event/recollida-del-sant-crist-de-la-bona-mort/
LOCATION:Confraria Sant Crist de la Bona Mort\, Prat de la Riba\, Mataró\, Barcelona\, 08301\, Espanya
CATEGORIES:MANIPLE
END:VEVENT
BEGIN:VEVENT
DTSTART;TZID=Europe/Helsinki:20240329T190000
DTEND;TZID=Europe/Helsinki:20240329T233000
DTSTAMP:20260421T044629
CREATED:20231023T132633Z
LAST-MODIFIED:20231023T132634Z
UID:6964-1711738800-1711755000@armatsdemataro.cat
SUMMARY:Processó General
DESCRIPTION:Es la processó Final de Divendres Sant . \nParticipen totes les entitats que formen l’Associació Comissió de Setmana Santa  de Mataró. \nS’inicia a la Basílica de Santa Maria de Mataró d’on surten tots els participants ordenadament.
URL:https://armatsdemataro.cat/event/processo-general-2/
LOCATION:Basílica de Santa Maria\, Plaça Santa Maria\, Mataró\, Barcelona\, 08301\, Espanya
CATEGORIES:MANIPLE
END:VEVENT
BEGIN:VEVENT
DTSTART;TZID=Europe/Helsinki:20240706T110000
DTEND;TZID=Europe/Helsinki:20240706T130000
DTSTAMP:20260421T044629
CREATED:20240630T150528Z
LAST-MODIFIED:20240630T150903Z
UID:7083-1720263600-1720270800@armatsdemataro.cat
SUMMARY:VISITA L'EXPOSICIÓ DEL CASTRUM
DESCRIPTION:
URL:https://armatsdemataro.cat/event/visita-lexposicio-del-castrum/
LOCATION:CASTRUM\, Carrer Sant Simó 13\, Mataró\, Barcelona\, 08301\, Espanya
CATEGORIES:ASSOCIACIÓ,MANIPLE
ATTACH;FMTTYPE=image/png:https://armatsdemataro.cat/wp-content/uploads/2024/06/Castrum-2024.png
END:VEVENT
BEGIN:VEVENT
DTSTART;TZID=Europe/Helsinki:20240713T110000
DTEND;TZID=Europe/Helsinki:20240713T130000
DTSTAMP:20260421T044629
CREATED:20240630T151548Z
LAST-MODIFIED:20240630T151743Z
UID:7086-1720868400-1720875600@armatsdemataro.cat
SUMMARY:VISITA L'EXPOSICIÓ DEL CASTRUM
DESCRIPTION:
URL:https://armatsdemataro.cat/event/visita-lexposicio-del-castrum-2/
LOCATION:CASTRUM\, Carrer Sant Simó 13\, Mataró\, Barcelona\, 08301\, Espanya
CATEGORIES:ASSOCIACIÓ,MANIPLE
ATTACH;FMTTYPE=image/png:https://armatsdemataro.cat/wp-content/uploads/2024/06/Castrum-2024.png
END:VEVENT
BEGIN:VEVENT
DTSTART;TZID=Europe/Helsinki:20240914T110000
DTEND;TZID=Europe/Helsinki:20240914T130000
DTSTAMP:20260421T044629
CREATED:20240912T152928Z
LAST-MODIFIED:20240912T152928Z
UID:7123-1726311600-1726318800@armatsdemataro.cat
SUMMARY:VISITA L'EXPOSICIÓ DEL CASTRUM
DESCRIPTION:
URL:https://armatsdemataro.cat/event/visita-lexposicio-del-castrum-3/
LOCATION:CASTRUM\, Carrer Sant Simó 13\, Mataró\, Barcelona\, 08301\, Espanya
ATTACH;FMTTYPE=image/png:https://armatsdemataro.cat/wp-content/uploads/2024/06/Castrum-2024.png
END:VEVENT
BEGIN:VEVENT
DTSTART;TZID=Europe/Helsinki:20240921T110000
DTEND;TZID=Europe/Helsinki:20240921T130000
DTSTAMP:20260421T044629
CREATED:20240912T153115Z
LAST-MODIFIED:20240912T153115Z
UID:7125-1726916400-1726923600@armatsdemataro.cat
SUMMARY:VISITA L'EXPOSICIÓ DEL CASTRUM
DESCRIPTION:
URL:https://armatsdemataro.cat/event/visita-lexposicio-del-castrum-4/
LOCATION:CASTRUM\, Carrer Sant Simó 13\, Mataró\, Barcelona\, 08301\, Espanya
CATEGORIES:ASSOCIACIÓ,MANIPLE,PASSIÓ
ATTACH;FMTTYPE=image/png:https://armatsdemataro.cat/wp-content/uploads/2024/06/Castrum-2024.png
END:VEVENT
BEGIN:VEVENT
DTSTART;TZID=Europe/Helsinki:20240928T110000
DTEND;TZID=Europe/Helsinki:20240928T130000
DTSTAMP:20260421T044629
CREATED:20240912T153236Z
LAST-MODIFIED:20240912T153237Z
UID:7127-1727521200-1727528400@armatsdemataro.cat
SUMMARY:VISITA L'EXPOSICIÓ DEL CASTRUM
DESCRIPTION:
URL:https://armatsdemataro.cat/event/visita-lexposicio-del-castrum-5/
LOCATION:CASTRUM\, Carrer Sant Simó 13\, Mataró\, Barcelona\, 08301\, Espanya
CATEGORIES:ASSOCIACIÓ,MANIPLE,PASSIÓ
ATTACH;FMTTYPE=image/png:https://armatsdemataro.cat/wp-content/uploads/2024/06/Castrum-2024.png
END:VEVENT
BEGIN:VEVENT
DTSTART;TZID=Europe/Helsinki:20241012T110000
DTEND;TZID=Europe/Helsinki:20241012T130000
DTSTAMP:20260421T044629
CREATED:20241006T150101Z
LAST-MODIFIED:20241006T150220Z
UID:7164-1728730800-1728738000@armatsdemataro.cat
SUMMARY:VISITA L’EXPOSICIÓ DEL CASTRUM
DESCRIPTION:
URL:https://armatsdemataro.cat/event/visita-lexposicio-del-castrum-6/
LOCATION:CASTRUM\, Carrer Sant Simó 13\, Mataró\, Barcelona\, 08301\, Espanya
CATEGORIES:ASSOCIACIÓ
ATTACH;FMTTYPE=image/png:https://armatsdemataro.cat/wp-content/uploads/2024/06/Castrum-2024.png
END:VEVENT
BEGIN:VEVENT
DTSTART;TZID=Europe/Helsinki:20241017T210000
DTEND;TZID=Europe/Helsinki:20241017T230000
DTSTAMP:20260421T044629
CREATED:20241006T151213Z
LAST-MODIFIED:20241006T151337Z
UID:7166-1729198800-1729206000@armatsdemataro.cat
SUMMARY:Assemblea Extraordinària d'Octubre 2024
DESCRIPTION: \n / llista assistents.\n \n / Lectura i aprovació\, si escau\, acta Assemblea anterior.\n \n / Informe President 2024-2025\n \n / Informe Capità Manaia activitats Nadal 2024\n \n/ Loteria Nacional Nadal 2024\n \n/ Cloenda\, precs i preguntes.
URL:https://armatsdemataro.cat/event/assemblea-extraordinaria-doctubre-2024/
LOCATION:CASTRUM\, Carrer Sant Simó 13\, Mataró\, Barcelona\, 08301\, Espanya
CATEGORIES:ASSOCIACIÓ
ATTACH;FMTTYPE=image/png:https://armatsdemataro.cat/wp-content/uploads/2022/07/cropped-Logo-Color.png
END:VEVENT
END:VCALENDAR