BEGIN:VCALENDAR
VERSION:2.0
PRODID:-//Armats de Mataró - ECPv5.16.4//NONSGML v1.0//EN
CALSCALE:GREGORIAN
METHOD:PUBLISH
X-WR-CALNAME:Armats de Mataró
X-ORIGINAL-URL:https://armatsdemataro.cat
X-WR-CALDESC:Events for Armats de Mataró
REFRESH-INTERVAL;VALUE=DURATION:PT1H
X-Robots-Tag:noindex
X-PUBLISHED-TTL:PT1H
BEGIN:VTIMEZONE
TZID:Europe/Helsinki
BEGIN:DAYLIGHT
TZOFFSETFROM:+0200
TZOFFSETTO:+0300
TZNAME:EEST
DTSTART:20230326T010000
END:DAYLIGHT
BEGIN:STANDARD
TZOFFSETFROM:+0300
TZOFFSETTO:+0200
TZNAME:EET
DTSTART:20231029T010000
END:STANDARD
END:VTIMEZONE
BEGIN:VEVENT
DTSTART;TZID=Europe/Helsinki:20230911T080000
DTEND;TZID=Europe/Helsinki:20230911T113000
DTSTAMP:20260420T143951
CREATED:20230911T103857Z
LAST-MODIFIED:20230911T104849Z
UID:6917-1694419200-1694431800@armatsdemataro.cat
SUMMARY:La Diada\, onze de setembre del 2023
DESCRIPTION:Aquest any\, la representació d’Armats de Mataró ha estat mb el president Joaquim Valls acompanyat dels membre de junta Dídac Benítez\, Fran Cortés\, Fernando López \, el Capità Manaia: Mario Martínez acompanyat del seu fill Julen Martínez\, ara el soci més jove de l’entitat i amb la seva parella Lorena Zamora\, el socis i sòcies Kevin Cortés\, Miquel Àngel Quijorna\, Martí López\, Jana López i Toribio Gutierrez \, s’ha fet la aportació dipositant el ram de flors a peu del monòlit amb salutació al monòlit i les autoritats. Seguidament ha estat el torn de la resta d’entitats\, grups polítics i dels sindicats concloent el solemne acte. \nVisca els Armats i visca Catalunya ! .
URL:https://armatsdemataro.cat/event/la-diada-onze-de-setembre-del-2023/
LOCATION:Plaça 11 setembre\, plaça rafael casanoves\, Mataro\, Barcelona\, 08303\, Espanya
CATEGORIES:ASSOCIACIÓ
END:VEVENT
END:VCALENDAR