BEGIN:VCALENDAR
VERSION:2.0
PRODID:-//Armats de Mataró - ECPv5.16.4//NONSGML v1.0//EN
CALSCALE:GREGORIAN
METHOD:PUBLISH
X-ORIGINAL-URL:https://armatsdemataro.cat
X-WR-CALDESC:Events for Armats de Mataró
REFRESH-INTERVAL;VALUE=DURATION:PT1H
X-Robots-Tag:noindex
X-PUBLISHED-TTL:PT1H
BEGIN:VTIMEZONE
TZID:Europe/Helsinki
BEGIN:DAYLIGHT
TZOFFSETFROM:+0200
TZOFFSETTO:+0300
TZNAME:EEST
DTSTART:20240331T010000
END:DAYLIGHT
BEGIN:STANDARD
TZOFFSETFROM:+0300
TZOFFSETTO:+0200
TZNAME:EET
DTSTART:20241027T010000
END:STANDARD
END:VTIMEZONE
BEGIN:VEVENT
DTSTART;TZID=Europe/Helsinki:20240328T191500
DTEND;TZID=Europe/Helsinki:20240328T191500
DTSTAMP:20260420T221549
CREATED:20231023T130644Z
LAST-MODIFIED:20231023T134906Z
UID:6956-1711653300-1711653300@armatsdemataro.cat
SUMMARY:Recollida de la Bandera. 35e Aniversari.
DESCRIPTION:Sortida del local d’Armats de Mataró Carrer Sant Simo 13 \, reunió del Maniple al Fossar Xic\, sortida en desfilada carrer Beata Maria fins l’entrada de la Plaça Santa Maria es cercla la plaça fins quedar davant de la Basílica de Santa Maria \, on Capità Manaia\, President i Banderer de Maniple\, sortiran de formació per anar a la Capella de la Mare de Deu del Dolors per iniciar el protocol del Banderer d’Honor . Posteriorment acabat el protocol intern\, inicia l’acte sortint el Banderer d’Honor escoltat per la guàrdia d’Armat Antic i els músic al so de “ la Marxa del Armat” fins fer el canvi de Bandera \, s’inicien les evolucions i es marxa cap el següent acte.
URL:https://armatsdemataro.cat/event/recollida-de-la-bandera/
LOCATION:Capella Mare de Deu dels Dolors\, Plaça Santa Maria\, Mataró\, Barcelona\, 08301\, Espanya
CATEGORIES:MANIPLE
END:VEVENT
BEGIN:VEVENT
DTSTART;TZID=Europe/Helsinki:20240328T200000
DTEND;TZID=Europe/Helsinki:20240328T210000
DTSTAMP:20260420T221549
CREATED:20231023T130926Z
LAST-MODIFIED:20231023T131005Z
UID:6958-1711656000-1711659600@armatsdemataro.cat
SUMMARY:Homenatge a la Ciutat
DESCRIPTION:Provenint de la Recollida Bandera \, per Plaça Gran\, Plaça Xica\, Plaça del Peix\, Carrer Barcelona\, La Riera s’arriba a la Plaça Ajuntament on s’inicia l’acte amb lectura Capità Manaia\, Imposició Insígnia\, i les evolucions de l’acte en si. Acabat a pas lleuger el Maniple es dirigeix a Santa Maria per prosseguir en la Processó Nit de Silenci.
URL:https://armatsdemataro.cat/event/homenatge-a-la-ciutat/
LOCATION:Plaça Ajuntament\, Plaça Ajuntament\, Mataró\, Barcelona\, 08301\, Espanya
CATEGORIES:MANIPLE
END:VEVENT
BEGIN:VEVENT
DTSTART;TZID=Europe/Helsinki:20240328T213000
DTEND;TZID=Europe/Helsinki:20240328T233000
DTSTAMP:20260420T221549
CREATED:20231023T131339Z
LAST-MODIFIED:20231023T134957Z
UID:6960-1711661400-1711668600@armatsdemataro.cat
SUMMARY:Processó Nit de Silenci. 30e Aniversari
DESCRIPTION:Celebrem que fa 210 anys la processó de Dijous Sant tornava als carres de Mataró. Posteriorment al 1994 va tornar la processó el Dijous Sant\, llavors dita la “Processó dels Armats” . \nDins de Santa Maria on espera la Confraria de l’Oració del Senyor a l’Hort de Mataró\, la Cofradia Jesús Coronado de Espinas i la Venerable Congregació de la Mae de Deu dels Dolors\, conjuntament s’inicia la Processó Nit de Silenci per el carrer Sant Francesc d’Assís \, Carrer Bonaire\, La Riera\, Carrer Nou i al tornar a la plaça Santa Maria es fa una entrada a la Basílica sense llums i amb torxes on acaba la Processó.
URL:https://armatsdemataro.cat/event/processo-nit-de-silenci-2/
LOCATION:Basílica de Santa Maria\, Plaça Santa Maria\, Mataró\, Barcelona\, 08301\, Espanya
CATEGORIES:MANIPLE
END:VEVENT
END:VCALENDAR