BEGIN:VCALENDAR
VERSION:2.0
PRODID:-//Armats de Mataró - ECPv5.16.4//NONSGML v1.0//EN
CALSCALE:GREGORIAN
METHOD:PUBLISH
X-WR-CALNAME:Armats de Mataró
X-ORIGINAL-URL:https://armatsdemataro.cat
X-WR-CALDESC:Events for Armats de Mataró
REFRESH-INTERVAL;VALUE=DURATION:PT1H
X-Robots-Tag:noindex
X-PUBLISHED-TTL:PT1H
BEGIN:VTIMEZONE
TZID:Europe/Helsinki
BEGIN:DAYLIGHT
TZOFFSETFROM:+0200
TZOFFSETTO:+0300
TZNAME:EEST
DTSTART:20240331T010000
END:DAYLIGHT
BEGIN:STANDARD
TZOFFSETFROM:+0300
TZOFFSETTO:+0200
TZNAME:EET
DTSTART:20241027T010000
END:STANDARD
END:VTIMEZONE
BEGIN:VEVENT
DTSTART;TZID=Europe/Helsinki:20240323T213000
DTEND;TZID=Europe/Helsinki:20240323T230000
DTSTAMP:20260420T221056
CREATED:20231023T130143Z
LAST-MODIFIED:20231023T130144Z
UID:6954-1711229400-1711234800@armatsdemataro.cat
SUMMARY:La Passió \, Últims dies de Jesús
DESCRIPTION:Des de 1983 a Mataró\, Armats de Mataró porten a terme la representació teatral de La Passió. \nMés de 60 participants.
URL:https://armatsdemataro.cat/event/la-passio-ultims-dies-de-jesus-4/
LOCATION:Hort del Rector de Santa Maria\, Plaça Santa Maria\, Mataró\, Barcelona\, 08301\, Espanya
CATEGORIES:PASSIÓ
END:VEVENT
END:VCALENDAR